BEGIN:VCALENDAR
VERSION:2.0
PRODID:spatie/icalendar-generator
DESCRIPTION:Eventi da ToyMagazine
X-WR-CALDESC:Eventi da ToyMagazine
REFRESH-INTERVAL;VALUE=DURATION:PT1440M
X-PUBLISHED-TTL:PT1440M
BEGIN:VTIMEZONE
TZID:Europe/Rome
BEGIN:STANDARD
DTSTART:20241027T030000Z
TZOFFSETFROM:+0200
TZOFFSETTO:+0100
END:STANDARD
BEGIN:DAYLIGHT
DTSTART:20250330T020000Z
TZOFFSETFROM:+0100
TZOFFSETTO:+0200
END:DAYLIGHT
END:VTIMEZONE
BEGIN:VTIMEZONE
TZID:UTC
BEGIN:STANDARD
DTSTART:20250725T135025Z
TZOFFSETFROM:+0000
TZOFFSETTO:+0000
END:STANDARD
END:VTIMEZONE
BEGIN:VEVENT
UID:2-1
DTSTAMP:20260421T135025Z
SUMMARY:Play 2025 - Il Festival del Gioco
LOCATION:
ORGANIZER;CN=Redazione:MAILTO:redazione@toymagazine.it
DTSTART;TZID=Europe/Rome;VALUE=DATE:20250404
DTEND;TZID=Europe/Rome;VALUE=DATE:20250407
X-ALT-DESC;FMTTYPE=TEXT/HTML:<p>Play - Il Festival del Gioco è il principa
 le evento italiano sui giochi da tavolo</p>\n
CATEGORIES:Fiere
URL;VALUE=URI:https://www.toymagazine.it/mc-events/play-2025-il-festival-de
 l-gioco/
METHOD:PUBLISH
END:VEVENT
END:VCALENDAR